BEGIN:VCALENDAR
VERSION:2.0
PRODID:-//81.88.34.80//NONSGML kigkonsult.se iCalcreator 2.20//
CALSCALE:GREGORIAN
METHOD:PUBLISH
X-WR-TIMEZONE:Europe/Berlin
BEGIN:VEVENT
UID:event9@4 Way Street Project
DTSTAMP:20260422T142945Z
CATEGORIES:öffentlich
DESCRIPTION:Baddy\nCategory: öffentlich\nLink: https://4wsp.de/index.php?op
 tion=com_jem&view=event&id=9:baddy\n
DTSTART;TZID=Europe/Berlin:20250426T190000
DTEND;TZID=Europe/Berlin:20250426T190000
LOCATION:Baddy\,Rathausstraße 11\,63877 Sailauf
SUMMARY:Baddy
URL:https://4wsp.de/index.php?option=com_jem&view=event&id=9:baddy
END:VEVENT
END:VCALENDAR