BEGIN:VCALENDAR
VERSION:2.0
PRODID:-//81.88.34.80//NONSGML kigkonsult.se iCalcreator 2.20//
CALSCALE:GREGORIAN
METHOD:PUBLISH
X-WR-TIMEZONE:Europe/Berlin
BEGIN:VEVENT
UID:event8@4 Way Street Project
DTSTAMP:20260422T143337Z
CATEGORIES:öffentlich
DESCRIPTION:Live im Sudhaus\nCategory: öffentlich\nLink: https://4wsp.de/in
 dex.php?option=com_jem&view=event&id=8:live-im-sudhaus-seligenstadt\n
DTSTART;TZID=Europe/Berlin:20250502T200000
DTEND;TZID=Europe/Berlin:20250502T200000
LOCATION:Kleines Brauhaus\,Bahnhofstraße 55\,63500 Seligenstadt
SUMMARY:Live im Sudhaus
URL:https://4wsp.de/index.php?option=com_jem&view=event&id=8:live-im-sudhau
 s-seligenstadt
END:VEVENT
END:VCALENDAR