BEGIN:VCALENDAR
VERSION:2.0
PRODID:-//81.88.34.80//NONSGML kigkonsult.se iCalcreator 2.20//
CALSCALE:GREGORIAN
METHOD:PUBLISH
X-WR-TIMEZONE:Europe/Berlin
BEGIN:VEVENT
UID:event7@4 Way Street Project
DTSTAMP:20260422T155818Z
CATEGORIES:öffentlich
DESCRIPTION:Live in der Minibar\nCategory: öffentlich\nLink: https://4wsp.d
 e/index.php?option=com_jem&view=event&id=7:live-in-der-minibar\n
DTSTART;TZID=Europe/Berlin:20241009T200000
DTEND;TZID=Europe/Berlin:20241009T200000
LOCATION:The Pub (ehemals miniBar)\,Agathaplatz 1\,63739 Aschaffenburg
SUMMARY:Live in der Minibar
URL:https://4wsp.de/index.php?option=com_jem&view=event&id=7:live-in-der-mi
 nibar
END:VEVENT
END:VCALENDAR