BEGIN:VCALENDAR
VERSION:2.0
PRODID:-//81.88.34.80//NONSGML kigkonsult.se iCalcreator 2.20//
CALSCALE:GREGORIAN
METHOD:PUBLISH
X-WR-TIMEZONE:Europe/Berlin
BEGIN:VEVENT
UID:event6@4 Way Street Project
DTSTAMP:20260422T155651Z
CATEGORIES:öffentlich
DESCRIPTION:Live im Fegeisen\nCategory: öffentlich\nLink: https://4wsp.de/i
 ndex.php?option=com_jem&view=event&id=6:live-im-fegeisen\n
DTSTART;TZID=Europe/Berlin:20241102T200000
DTEND;TZID=Europe/Berlin:20241102T200000
LOCATION:Landgasthof Fegeisen\,Lindenstraße 1\,63825 Schöllkrippen
SUMMARY:Live im Fegeisen
URL:https://4wsp.de/index.php?option=com_jem&view=event&id=6:live-im-fegeis
 en
END:VEVENT
END:VCALENDAR