BEGIN:VCALENDAR
VERSION:2.0
PRODID:-//81.88.34.80//NONSGML kigkonsult.se iCalcreator 2.20//
CALSCALE:GREGORIAN
METHOD:PUBLISH
X-WR-TIMEZONE:Europe/Berlin
BEGIN:VEVENT
UID:event5@4 Way Street Project
DTSTAMP:20260422T155447Z
CATEGORIES:öffentlich
DESCRIPTION:Live im Krem\nCategory: öffentlich\nLink: https://4wsp.de/index
 .php?option=com_jem&view=event&id=5:live-im-krem\n
DTSTART;TZID=Europe/Berlin:20240907T200000
DTEND;TZID=Europe/Berlin:20240907T200000
LOCATION:Café Krem\,Riesengasse 10\,63741 Aschaffenburg
SUMMARY:Live im Krem
URL:https://4wsp.de/index.php?option=com_jem&view=event&id=5:live-im-krem
END:VEVENT
END:VCALENDAR