BEGIN:VCALENDAR
VERSION:2.0
PRODID:-//81.88.34.80//NONSGML kigkonsult.se iCalcreator 2.20//
CALSCALE:GREGORIAN
METHOD:PUBLISH
X-WR-TIMEZONE:Europe/Berlin
BEGIN:VEVENT
UID:event20@4 Way Street Project
DTSTAMP:20260422T143537Z
CATEGORIES:öffentlich
DESCRIPTION:Benefizkonzert für und mit Sophie Gläser\nCategory: öffentlich
 \nLink: https://4wsp.de/index.php?option=com_jem&view=event&id=20:benefizk
 onzert-fuer-und-mit-sophie-glaeser\n
DTSTART;TZID=Europe/Berlin:20251123T170000
DTEND;TZID=Europe/Berlin:20251123T170000
LOCATION:Ivo-Zeiger-Haus\,Am Markt 6\,63776 Mömbris
SUMMARY:Benefizkonzert für und mit Sophie Gläser
URL:https://4wsp.de/index.php?option=com_jem&view=event&id=20:benefizkonzer
 t-fuer-und-mit-sophie-glaeser
END:VEVENT
END:VCALENDAR