BEGIN:VCALENDAR
VERSION:2.0
PRODID:-//81.88.34.80//NONSGML kigkonsult.se iCalcreator 2.20//
CALSCALE:GREGORIAN
METHOD:PUBLISH
X-WR-TIMEZONE:Europe/Berlin
BEGIN:VEVENT
UID:event15@4 Way Street Project
DTSTAMP:20260422T143034Z
CATEGORIES:öffentlich
DESCRIPTION:miniBar\nCategory: öffentlich\nLink: https://4wsp.de/index.php?
 option=com_jem&view=event&id=15:minibar\n
DTSTART;TZID=Europe/Berlin:20260128T193000
DTEND;TZID=Europe/Berlin:20260128T193000
LOCATION:The Pub (ehemals miniBar)\,Agathaplatz 1\,63739 Aschaffenburg
SUMMARY:miniBar
URL:https://4wsp.de/index.php?option=com_jem&view=event&id=15:minibar
END:VEVENT
END:VCALENDAR