BEGIN:VCALENDAR
VERSION:2.0
PRODID:-//81.88.34.80//NONSGML kigkonsult.se iCalcreator 2.20//
CALSCALE:GREGORIAN
METHOD:PUBLISH
X-WR-TIMEZONE:Europe/Berlin
BEGIN:VEVENT
UID:event14@4 Way Street Project
DTSTAMP:20260422T143034Z
CATEGORIES:öffentlich
DESCRIPTION:Feierabendmarkt\nCategory: öffentlich\nLink: https://4wsp.de/in
 dex.php?option=com_jem&view=event&id=14:feierabendmarkt\n
DTSTART;TZID=Europe/Berlin:20251002T173000
DTEND;TZID=Europe/Berlin:20251002T173000
LOCATION:Marktplatz Marktheidenfeld\,97828 Marktheidenfeld
SUMMARY:Feierabendmarkt
URL:https://4wsp.de/index.php?option=com_jem&view=event&id=14:feierabendmar
 kt
END:VEVENT
END:VCALENDAR