BEGIN:VCALENDAR
VERSION:2.0
PRODID:-//81.88.34.80//NONSGML kigkonsult.se iCalcreator 2.20//
CALSCALE:GREGORIAN
METHOD:PUBLISH
X-WR-TIMEZONE:Europe/Berlin
BEGIN:VEVENT
UID:event13@4 Way Street Project
DTSTAMP:20260422T143129Z
CATEGORIES:öffentlich
DESCRIPTION:Nachtschwimmen\nCategory: öffentlich\nLink: https://4wsp.de/ind
 ex.php?option=com_jem&view=event&id=13:nachtschwimmen\n
DTSTART;VALUE=DATE:20250719
DTEND;VALUE=DATE:20250720
LOCATION:Waldschwimmbad Goldbach \,Hauptstraße 179\,63773 Goldbach 
SUMMARY:Nachtschwimmen
URL:https://4wsp.de/index.php?option=com_jem&view=event&id=13:nachtschwimme
 n
END:VEVENT
END:VCALENDAR