BEGIN:VCALENDAR
VERSION:2.0
PRODID:-//81.88.34.80//NONSGML kigkonsult.se iCalcreator 2.20//
CALSCALE:GREGORIAN
METHOD:PUBLISH
X-WR-TIMEZONE:Europe/Berlin
BEGIN:VEVENT
UID:event12@4 Way Street Project
DTSTAMP:20260422T143255Z
CATEGORIES:öffentlich
DESCRIPTION:Fête de la Musique \nCategory: öffentlich\nLink: https://4wsp.d
 e/index.php?option=com_jem&view=event&id=12:fete-de-la-musique\n
DTSTART;TZID=Europe/Berlin:20250621T200000
DTEND;TZID=Europe/Berlin:20250621T200000
LOCATION:Maingauhalle\,Ludwigstraße 25\,63801 Kleinostheim
SUMMARY:Fête de la Musique 
URL:https://4wsp.de/index.php?option=com_jem&view=event&id=12:fete-de-la-mu
 sique
END:VEVENT
END:VCALENDAR