BEGIN:VCALENDAR
VERSION:2.0
PRODID:-//81.88.34.80//NONSGML kigkonsult.se iCalcreator 2.20//
CALSCALE:GREGORIAN
METHOD:PUBLISH
X-WR-TIMEZONE:Europe/Berlin
BEGIN:VEVENT
UID:event11@4 Way Street Project
DTSTAMP:20260422T143128Z
CATEGORIES:öffentlich
DESCRIPTION:Josef's Keller\nCategory: öffentlich\nLink: https://4wsp.de/ind
 ex.php?option=com_jem&view=event&id=11:josef-s-keller\n
DTSTART;TZID=Europe/Berlin:20250315T193000
DTEND;TZID=Europe/Berlin:20250315T193000
LOCATION:Weinhaus Mehling\,Hauptstraße 30\,97816 Lohr
SUMMARY:Josef's Keller
URL:https://4wsp.de/index.php?option=com_jem&view=event&id=11:josef-s-kelle
 r
END:VEVENT
END:VCALENDAR