BEGIN:VCALENDAR
VERSION:2.0
PRODID:-//81.88.34.80//NONSGML kigkonsult.se iCalcreator 2.20//
CALSCALE:GREGORIAN
METHOD:PUBLISH
X-WR-TIMEZONE:Europe/Berlin
BEGIN:VEVENT
UID:event19@4 Way Street Project
DTSTAMP:20260422T113741Z
CATEGORIES:öffentlich
DESCRIPTION:Live im Brauhaus\nCategory: öffentlich\nLink: https://4wsp.de/i
 ndex.php?option=com_jem&view=event&id=19:live-im-brauhaus\n
DTSTART;VALUE=DATE:20260605
DTEND;VALUE=DATE:20260606
LOCATION:Kleines Brauhaus\,Bahnhofstraße 55\,63500 Seligenstadt
SUMMARY:Live im Brauhaus
URL:https://4wsp.de/index.php?option=com_jem&view=event&id=19:live-im-brauh
 aus
END:VEVENT
END:VCALENDAR